BEGIN:VCALENDAR
VERSION:2.0
PRODID:-//Newport Aquatic Center - ECPv6.15.20//NONSGML v1.0//EN
CALSCALE:GREGORIAN
METHOD:PUBLISH
X-WR-CALNAME:Newport Aquatic Center
X-ORIGINAL-URL:https://newportaquaticcenter.com
X-WR-CALDESC:Events for Newport Aquatic Center
REFRESH-INTERVAL;VALUE=DURATION:PT1H
X-Robots-Tag:noindex
X-PUBLISHED-TTL:PT1H
BEGIN:VTIMEZONE
TZID:America/Los_Angeles
BEGIN:DAYLIGHT
TZOFFSETFROM:-0800
TZOFFSETTO:-0700
TZNAME:PDT
DTSTART:20250309T100000
END:DAYLIGHT
BEGIN:STANDARD
TZOFFSETFROM:-0700
TZOFFSETTO:-0800
TZNAME:PST
DTSTART:20251102T090000
END:STANDARD
BEGIN:DAYLIGHT
TZOFFSETFROM:-0800
TZOFFSETTO:-0700
TZNAME:PDT
DTSTART:20260308T100000
END:DAYLIGHT
BEGIN:STANDARD
TZOFFSETFROM:-0700
TZOFFSETTO:-0800
TZNAME:PST
DTSTART:20261101T090000
END:STANDARD
BEGIN:DAYLIGHT
TZOFFSETFROM:-0800
TZOFFSETTO:-0700
TZNAME:PDT
DTSTART:20270314T100000
END:DAYLIGHT
BEGIN:STANDARD
TZOFFSETFROM:-0700
TZOFFSETTO:-0800
TZNAME:PST
DTSTART:20271107T090000
END:STANDARD
END:VTIMEZONE
BEGIN:VEVENT
DTSTART;TZID=America/Los_Angeles:20260427T170000
DTEND;TZID=America/Los_Angeles:20260427T190000
DTSTAMP:20260419T212656
CREATED:20260219T195718Z
LAST-MODIFIED:20260219T202017Z
UID:12881-1777309200-1777316400@newportaquaticcenter.com
SUMMARY:NAC WAO Local Day 3: Kayak and Paddle
DESCRIPTION:Kayak & Tacos\nKayak or SUP around the bay\, then head to Que Vida for dinner\nPlease note: dinner is not provided\nNAC – 1 Whitecliffs Drive\, Newport Beach\n4:00 PM \nLocal Day Adventures
URL:https://newportaquaticcenter.com/event/nac-wao-local-day-3-kayak-and-paddle/
LOCATION:NAC
CATEGORIES:We Are Ocean
END:VEVENT
END:VCALENDAR