BEGIN:VCALENDAR
VERSION:2.0
PRODID:-//Newport Aquatic Center - ECPv6.15.20//NONSGML v1.0//EN
CALSCALE:GREGORIAN
METHOD:PUBLISH
X-ORIGINAL-URL:https://newportaquaticcenter.com
X-WR-CALDESC:Events for Newport Aquatic Center
REFRESH-INTERVAL;VALUE=DURATION:PT1H
X-Robots-Tag:noindex
X-PUBLISHED-TTL:PT1H
BEGIN:VTIMEZONE
TZID:America/Los_Angeles
BEGIN:DAYLIGHT
TZOFFSETFROM:-0800
TZOFFSETTO:-0700
TZNAME:PDT
DTSTART:20180311T100000
END:DAYLIGHT
BEGIN:STANDARD
TZOFFSETFROM:-0700
TZOFFSETTO:-0800
TZNAME:PST
DTSTART:20181104T090000
END:STANDARD
BEGIN:DAYLIGHT
TZOFFSETFROM:-0800
TZOFFSETTO:-0700
TZNAME:PDT
DTSTART:20190310T100000
END:DAYLIGHT
BEGIN:STANDARD
TZOFFSETFROM:-0700
TZOFFSETTO:-0800
TZNAME:PST
DTSTART:20191103T090000
END:STANDARD
BEGIN:DAYLIGHT
TZOFFSETFROM:-0800
TZOFFSETTO:-0700
TZNAME:PDT
DTSTART:20200308T100000
END:DAYLIGHT
BEGIN:STANDARD
TZOFFSETFROM:-0700
TZOFFSETTO:-0800
TZNAME:PST
DTSTART:20201101T090000
END:STANDARD
END:VTIMEZONE
BEGIN:VEVENT
DTSTART;VALUE=DATE:20190406
DTEND;VALUE=DATE:20190407
DTSTAMP:20260421T042042
CREATED:20190322T203056Z
LAST-MODIFIED:20190322T203056Z
UID:8345-1554508800-1554595199@newportaquaticcenter.com
SUMMARY:No Middle School Rowing Practice
DESCRIPTION:
URL:https://newportaquaticcenter.com/event/no-middle-school-rowing-practice-2/
LOCATION:NJ
CATEGORIES:Rowing
END:VEVENT
BEGIN:VEVENT
DTSTART;TZID=America/Los_Angeles:20190324T080000
DTEND;TZID=America/Los_Angeles:20190324T170000
DTSTAMP:20260421T042042
CREATED:20190302T004804Z
LAST-MODIFIED:20190302T004804Z
UID:8143-1553414400-1553446800@newportaquaticcenter.com
SUMMARY:Natoma Invite
DESCRIPTION:
URL:https://newportaquaticcenter.com/event/natoma-invite/
LOCATION:Sacramento\, Sacramento\, CA
CATEGORIES:Rowing
END:VEVENT
BEGIN:VEVENT
DTSTART;VALUE=DATE:20190323
DTEND;VALUE=DATE:20190324
DTSTAMP:20260421T042042
CREATED:20190322T203014Z
LAST-MODIFIED:20190322T203014Z
UID:8343-1553299200-1553385599@newportaquaticcenter.com
SUMMARY:No Middle School Rowing Practice
DESCRIPTION:
URL:https://newportaquaticcenter.com/event/no-middle-school-rowing-practice/
LOCATION:NJ
CATEGORIES:Rowing
END:VEVENT
BEGIN:VEVENT
DTSTART;TZID=America/Los_Angeles:20190309T080000
DTEND;TZID=America/Los_Angeles:20190309T170000
DTSTAMP:20260421T042042
CREATED:20190302T004539Z
LAST-MODIFIED:20190302T004539Z
UID:8141-1552118400-1552150800@newportaquaticcenter.com
SUMMARY:Long Beach Invitational
DESCRIPTION:
URL:https://newportaquaticcenter.com/event/long-beach-invitational/
LOCATION:Long Beach\, Long Beach\, CA
CATEGORIES:Rowing
END:VEVENT
END:VCALENDAR