BEGIN:VCALENDAR
VERSION:2.0
PRODID:-//Newport Aquatic Center - ECPv6.15.20//NONSGML v1.0//EN
CALSCALE:GREGORIAN
METHOD:PUBLISH
X-WR-CALNAME:Newport Aquatic Center
X-ORIGINAL-URL:https://newportaquaticcenter.com
X-WR-CALDESC:Events for Newport Aquatic Center
REFRESH-INTERVAL;VALUE=DURATION:PT1H
X-Robots-Tag:noindex
X-PUBLISHED-TTL:PT1H
BEGIN:VTIMEZONE
TZID:America/Los_Angeles
BEGIN:DAYLIGHT
TZOFFSETFROM:-0800
TZOFFSETTO:-0700
TZNAME:PDT
DTSTART:20180311T100000
END:DAYLIGHT
BEGIN:STANDARD
TZOFFSETFROM:-0700
TZOFFSETTO:-0800
TZNAME:PST
DTSTART:20181104T090000
END:STANDARD
BEGIN:DAYLIGHT
TZOFFSETFROM:-0800
TZOFFSETTO:-0700
TZNAME:PDT
DTSTART:20190310T100000
END:DAYLIGHT
BEGIN:STANDARD
TZOFFSETFROM:-0700
TZOFFSETTO:-0800
TZNAME:PST
DTSTART:20191103T090000
END:STANDARD
BEGIN:DAYLIGHT
TZOFFSETFROM:-0800
TZOFFSETTO:-0700
TZNAME:PDT
DTSTART:20200308T100000
END:DAYLIGHT
BEGIN:STANDARD
TZOFFSETFROM:-0700
TZOFFSETTO:-0800
TZNAME:PST
DTSTART:20201101T090000
END:STANDARD
END:VTIMEZONE
BEGIN:VEVENT
DTSTART;TZID=America/Los_Angeles:20190729T090000
DTEND;TZID=America/Los_Angeles:20190802T130000
DTSTAMP:20260419T105734
CREATED:20190312T202345Z
LAST-MODIFIED:20190312T205025Z
UID:8269-1564390800-1564750800@newportaquaticcenter.com
SUMMARY:Kids Paddle Camp Session 6
DESCRIPTION:Kids Summer Paddle Camp \n \n 
URL:https://newportaquaticcenter.com/event/kids-paddle-camp-session-6/
CATEGORIES:Camps
END:VEVENT
BEGIN:VEVENT
DTSTART;TZID=America/Los_Angeles:20190722T090000
DTEND;TZID=America/Los_Angeles:20190726T130000
DTSTAMP:20260419T105734
CREATED:20190312T202209Z
LAST-MODIFIED:20190312T204335Z
UID:8267-1563786000-1564146000@newportaquaticcenter.com
SUMMARY:Kids Paddle Camp Session 5
DESCRIPTION:Kids Summer Paddle Camp
URL:https://newportaquaticcenter.com/event/kids-paddle-camp-session-5/
CATEGORIES:Camps
END:VEVENT
BEGIN:VEVENT
DTSTART;TZID=America/Los_Angeles:20190715T080000
DTEND;TZID=America/Los_Angeles:20190719T170000
DTSTAMP:20260419T105734
CREATED:20190312T201932Z
LAST-MODIFIED:20190312T205010Z
UID:8265-1563177600-1563555600@newportaquaticcenter.com
SUMMARY:Kids Paddle Camp Session 4
DESCRIPTION:Kids Summer Paddle Camp
URL:https://newportaquaticcenter.com/event/kids-paddle-camp-session-4/
CATEGORIES:Camps
END:VEVENT
BEGIN:VEVENT
DTSTART;TZID=America/Los_Angeles:20190708T090000
DTEND;TZID=America/Los_Angeles:20190712T130000
DTSTAMP:20260419T105734
CREATED:20190312T201853Z
LAST-MODIFIED:20190312T204024Z
UID:8263-1562576400-1562936400@newportaquaticcenter.com
SUMMARY:Kids Paddle Camp Session 3
DESCRIPTION:Kids Summer Paddle Camp
URL:https://newportaquaticcenter.com/event/kids-paddle-camp-session-3/
CATEGORIES:Camps
END:VEVENT
BEGIN:VEVENT
DTSTART;TZID=America/Los_Angeles:20190708T063000
DTEND;TZID=America/Los_Angeles:20190712T090000
DTSTAMP:20260419T105734
CREATED:20190312T203232Z
LAST-MODIFIED:20190312T212431Z
UID:8280-1562567400-1562922000@newportaquaticcenter.com
SUMMARY:Varsity Conditioning Camp Week 3
DESCRIPTION:Varsity Conditioning Camp \n \n 
URL:https://newportaquaticcenter.com/event/varsity-conditioning-camp-week-3/
CATEGORIES:Camps
END:VEVENT
BEGIN:VEVENT
DTSTART;TZID=America/Los_Angeles:20190701T090000
DTEND;TZID=America/Los_Angeles:20190705T130000
DTSTAMP:20260419T105734
CREATED:20190312T201119Z
LAST-MODIFIED:20190312T204915Z
UID:8261-1561971600-1562331600@newportaquaticcenter.com
SUMMARY:Kids Paddle Camp Session 2
DESCRIPTION:Kids Summer Paddle Camp
URL:https://newportaquaticcenter.com/event/kids-paddle-camp-session-2/
CATEGORIES:Camps
END:VEVENT
BEGIN:VEVENT
DTSTART;TZID=America/Los_Angeles:20190701T063000
DTEND;TZID=America/Los_Angeles:20190705T090000
DTSTAMP:20260419T105734
CREATED:20190312T203139Z
LAST-MODIFIED:20190312T203902Z
UID:8278-1561962600-1562317200@newportaquaticcenter.com
SUMMARY:Varsity Conditioning Camp Week 2
DESCRIPTION:Varsity Conditioning Camp \n \n 
URL:https://newportaquaticcenter.com/event/varsity-conditioning-camp-week-2/
CATEGORIES:Camps
END:VEVENT
BEGIN:VEVENT
DTSTART;TZID=America/Los_Angeles:20190624T090000
DTEND;TZID=America/Los_Angeles:20190628T150000
DTSTAMP:20260419T105734
CREATED:20190312T203418Z
LAST-MODIFIED:20190312T204843Z
UID:8282-1561366800-1561734000@newportaquaticcenter.com
SUMMARY:Learn to Row Summer Camp Session 1
DESCRIPTION:http://newportaquaticcenter.com/camps/novice-rowing-camp/
URL:https://newportaquaticcenter.com/event/learn-to-row-summer-camp-session-1/
CATEGORIES:Camps
END:VEVENT
BEGIN:VEVENT
DTSTART;TZID=America/Los_Angeles:20190624T090000
DTEND;TZID=America/Los_Angeles:20190628T130000
DTSTAMP:20260419T105734
CREATED:20190312T200506Z
LAST-MODIFIED:20190312T203745Z
UID:8257-1561366800-1561726800@newportaquaticcenter.com
SUMMARY:Kids Paddle Camp Session 1
DESCRIPTION:Kids Summer Paddle Camp
URL:https://newportaquaticcenter.com/event/kids-paddle-camp-session-1/
CATEGORIES:Camps
END:VEVENT
BEGIN:VEVENT
DTSTART;TZID=America/Los_Angeles:20190624T063000
DTEND;TZID=America/Los_Angeles:20190628T090000
DTSTAMP:20260419T105734
CREATED:20190312T205304Z
LAST-MODIFIED:20190312T211316Z
UID:8287-1561357800-1561712400@newportaquaticcenter.com
SUMMARY:Intro to Competitive Rowing Week 1
DESCRIPTION:Intro To Competitive Rowing
URL:https://newportaquaticcenter.com/event/intro-to-competitive-rowing-week-1/
CATEGORIES:Camps
END:VEVENT
BEGIN:VEVENT
DTSTART;TZID=America/Los_Angeles:20190624T063000
DTEND;TZID=America/Los_Angeles:20190628T090000
DTSTAMP:20260419T105734
CREATED:20190312T202941Z
LAST-MODIFIED:20190312T204706Z
UID:8275-1561357800-1561712400@newportaquaticcenter.com
SUMMARY:Varsity Conditioning Camp Week 1
DESCRIPTION:Varsity Conditioning Camp
URL:https://newportaquaticcenter.com/event/varsity-conditioning-camp-week-1/
CATEGORIES:Camps
END:VEVENT
END:VCALENDAR