BEGIN:VCALENDAR
VERSION:2.0
PRODID:-//Newport Aquatic Center - ECPv6.15.20//NONSGML v1.0//EN
CALSCALE:GREGORIAN
METHOD:PUBLISH
X-ORIGINAL-URL:https://newportaquaticcenter.com
X-WR-CALDESC:Events for Newport Aquatic Center
REFRESH-INTERVAL;VALUE=DURATION:PT1H
X-Robots-Tag:noindex
X-PUBLISHED-TTL:PT1H
BEGIN:VTIMEZONE
TZID:America/Los_Angeles
BEGIN:DAYLIGHT
TZOFFSETFROM:-0800
TZOFFSETTO:-0700
TZNAME:PDT
DTSTART:20240310T100000
END:DAYLIGHT
BEGIN:STANDARD
TZOFFSETFROM:-0700
TZOFFSETTO:-0800
TZNAME:PST
DTSTART:20241103T090000
END:STANDARD
BEGIN:DAYLIGHT
TZOFFSETFROM:-0800
TZOFFSETTO:-0700
TZNAME:PDT
DTSTART:20250309T100000
END:DAYLIGHT
BEGIN:STANDARD
TZOFFSETFROM:-0700
TZOFFSETTO:-0800
TZNAME:PST
DTSTART:20251102T090000
END:STANDARD
BEGIN:DAYLIGHT
TZOFFSETFROM:-0800
TZOFFSETTO:-0700
TZNAME:PDT
DTSTART:20260308T100000
END:DAYLIGHT
BEGIN:STANDARD
TZOFFSETFROM:-0700
TZOFFSETTO:-0800
TZNAME:PST
DTSTART:20261101T090000
END:STANDARD
END:VTIMEZONE
BEGIN:VEVENT
DTSTART;TZID=America/Los_Angeles:20250714T090000
DTEND;TZID=America/Los_Angeles:20250718T120000
DTSTAMP:20260419T223830
CREATED:20250211T202029Z
LAST-MODIFIED:20250211T202715Z
UID:11293-1752483600-1752840000@newportaquaticcenter.com
SUMMARY:Learn to Row Camp Session 6
DESCRIPTION:Learn to Row camp
URL:https://newportaquaticcenter.com/event/learn-to-row-camp-session-6/
CATEGORIES:Camps,Rowing
END:VEVENT
BEGIN:VEVENT
DTSTART;TZID=America/Los_Angeles:20250714T090000
DTEND;TZID=America/Los_Angeles:20250718T130000
DTSTAMP:20260419T223830
CREATED:20250211T204921Z
LAST-MODIFIED:20250211T204921Z
UID:11311-1752483600-1752843600@newportaquaticcenter.com
SUMMARY:Kids Paddle Camp Session 6
DESCRIPTION:
URL:https://newportaquaticcenter.com/event/kids-paddle-camp-session-6-2/
CATEGORIES:Camps
END:VEVENT
BEGIN:VEVENT
DTSTART;TZID=America/Los_Angeles:20250721T090000
DTEND;TZID=America/Los_Angeles:20250725T120000
DTSTAMP:20260419T223830
CREATED:20250211T202124Z
LAST-MODIFIED:20250211T202647Z
UID:11295-1753088400-1753444800@newportaquaticcenter.com
SUMMARY:Learn to Row Camp Session 7
DESCRIPTION:Learn to Row camp
URL:https://newportaquaticcenter.com/event/learn-to-row-camp-session-7/
CATEGORIES:Camps,Rowing
END:VEVENT
BEGIN:VEVENT
DTSTART;TZID=America/Los_Angeles:20250721T090000
DTEND;TZID=America/Los_Angeles:20250725T130000
DTSTAMP:20260419T223830
CREATED:20250211T204948Z
LAST-MODIFIED:20250211T204948Z
UID:11313-1753088400-1753448400@newportaquaticcenter.com
SUMMARY:Kids Paddle Camp Session 7
DESCRIPTION:
URL:https://newportaquaticcenter.com/event/kids-paddle-camp-session-7-2/
CATEGORIES:Camps
END:VEVENT
BEGIN:VEVENT
DTSTART;TZID=America/Los_Angeles:20250728T090000
DTEND;TZID=America/Los_Angeles:20250801T120000
DTSTAMP:20260419T223830
CREATED:20250211T202154Z
LAST-MODIFIED:20250211T202602Z
UID:11297-1753693200-1754049600@newportaquaticcenter.com
SUMMARY:Learn to Row Camp Session 8
DESCRIPTION:Learn to Row camp
URL:https://newportaquaticcenter.com/event/learn-to-row-camp-session-8/
CATEGORIES:Camps,Rowing
END:VEVENT
BEGIN:VEVENT
DTSTART;TZID=America/Los_Angeles:20250728T090000
DTEND;TZID=America/Los_Angeles:20250801T130000
DTSTAMP:20260419T223830
CREATED:20250211T205028Z
LAST-MODIFIED:20250211T205028Z
UID:11315-1753693200-1754053200@newportaquaticcenter.com
SUMMARY:Kids Paddle Camp Session 8
DESCRIPTION:
URL:https://newportaquaticcenter.com/event/kids-paddle-camp-session-8/
CATEGORIES:Camps
END:VEVENT
BEGIN:VEVENT
DTSTART;TZID=America/Los_Angeles:20250804T090000
DTEND;TZID=America/Los_Angeles:20250808T120000
DTSTAMP:20260419T223830
CREATED:20250211T202303Z
LAST-MODIFIED:20250211T202303Z
UID:11299-1754298000-1754654400@newportaquaticcenter.com
SUMMARY:Learn to Row Camp Session 9
DESCRIPTION:Learn to Row camp
URL:https://newportaquaticcenter.com/event/learn-to-row-camp-session-9/
CATEGORIES:Camps,Rowing
END:VEVENT
BEGIN:VEVENT
DTSTART;TZID=America/Los_Angeles:20250804T090000
DTEND;TZID=America/Los_Angeles:20250808T130000
DTSTAMP:20260419T223830
CREATED:20250211T205055Z
LAST-MODIFIED:20250211T205055Z
UID:11317-1754298000-1754658000@newportaquaticcenter.com
SUMMARY:Kids Paddle Camp Session 9
DESCRIPTION:
URL:https://newportaquaticcenter.com/event/kids-paddle-camp-session-9/
CATEGORIES:Camps
END:VEVENT
END:VCALENDAR