BEGIN:VCALENDAR
VERSION:2.0
PRODID:-//Newport Aquatic Center - ECPv6.15.20//NONSGML v1.0//EN
CALSCALE:GREGORIAN
METHOD:PUBLISH
X-ORIGINAL-URL:https://newportaquaticcenter.com
X-WR-CALDESC:Events for Newport Aquatic Center
REFRESH-INTERVAL;VALUE=DURATION:PT1H
X-Robots-Tag:noindex
X-PUBLISHED-TTL:PT1H
BEGIN:VTIMEZONE
TZID:America/Los_Angeles
BEGIN:DAYLIGHT
TZOFFSETFROM:-0800
TZOFFSETTO:-0700
TZNAME:PDT
DTSTART:20180311T100000
END:DAYLIGHT
BEGIN:STANDARD
TZOFFSETFROM:-0700
TZOFFSETTO:-0800
TZNAME:PST
DTSTART:20181104T090000
END:STANDARD
BEGIN:DAYLIGHT
TZOFFSETFROM:-0800
TZOFFSETTO:-0700
TZNAME:PDT
DTSTART:20190310T100000
END:DAYLIGHT
BEGIN:STANDARD
TZOFFSETFROM:-0700
TZOFFSETTO:-0800
TZNAME:PST
DTSTART:20191103T090000
END:STANDARD
BEGIN:DAYLIGHT
TZOFFSETFROM:-0800
TZOFFSETTO:-0700
TZNAME:PDT
DTSTART:20200308T100000
END:DAYLIGHT
BEGIN:STANDARD
TZOFFSETFROM:-0700
TZOFFSETTO:-0800
TZNAME:PST
DTSTART:20201101T090000
END:STANDARD
BEGIN:DAYLIGHT
TZOFFSETFROM:-0800
TZOFFSETTO:-0700
TZNAME:PDT
DTSTART:20210314T100000
END:DAYLIGHT
BEGIN:STANDARD
TZOFFSETFROM:-0700
TZOFFSETTO:-0800
TZNAME:PST
DTSTART:20211107T090000
END:STANDARD
BEGIN:DAYLIGHT
TZOFFSETFROM:-0800
TZOFFSETTO:-0700
TZNAME:PDT
DTSTART:20220313T100000
END:DAYLIGHT
BEGIN:STANDARD
TZOFFSETFROM:-0700
TZOFFSETTO:-0800
TZNAME:PST
DTSTART:20221106T090000
END:STANDARD
BEGIN:DAYLIGHT
TZOFFSETFROM:-0800
TZOFFSETTO:-0700
TZNAME:PDT
DTSTART:20230312T100000
END:DAYLIGHT
BEGIN:STANDARD
TZOFFSETFROM:-0700
TZOFFSETTO:-0800
TZNAME:PST
DTSTART:20231105T090000
END:STANDARD
BEGIN:DAYLIGHT
TZOFFSETFROM:-0800
TZOFFSETTO:-0700
TZNAME:PDT
DTSTART:20240310T100000
END:DAYLIGHT
BEGIN:STANDARD
TZOFFSETFROM:-0700
TZOFFSETTO:-0800
TZNAME:PST
DTSTART:20241103T090000
END:STANDARD
BEGIN:DAYLIGHT
TZOFFSETFROM:-0800
TZOFFSETTO:-0700
TZNAME:PDT
DTSTART:20250309T100000
END:DAYLIGHT
BEGIN:STANDARD
TZOFFSETFROM:-0700
TZOFFSETTO:-0800
TZNAME:PST
DTSTART:20251102T090000
END:STANDARD
BEGIN:DAYLIGHT
TZOFFSETFROM:-0800
TZOFFSETTO:-0700
TZNAME:PDT
DTSTART:20260308T100000
END:DAYLIGHT
BEGIN:STANDARD
TZOFFSETFROM:-0700
TZOFFSETTO:-0800
TZNAME:PST
DTSTART:20261101T090000
END:STANDARD
END:VTIMEZONE
BEGIN:VTIMEZONE
TZID:UTC
BEGIN:STANDARD
TZOFFSETFROM:+0000
TZOFFSETTO:+0000
TZNAME:UTC
DTSTART:20210101T000000
END:STANDARD
END:VTIMEZONE
BEGIN:VEVENT
DTSTART;TZID=America/Los_Angeles:20250630T090000
DTEND;TZID=America/Los_Angeles:20250704T130000
DTSTAMP:20260419T075311
CREATED:20250211T204816Z
LAST-MODIFIED:20250211T204816Z
UID:11307-1751274000-1751634000@newportaquaticcenter.com
SUMMARY:Kids Paddle Camp Session 4
DESCRIPTION:
URL:https://newportaquaticcenter.com/event/kids-paddle-camp-session-4-2/
CATEGORIES:Camps
END:VEVENT
BEGIN:VEVENT
DTSTART;TZID=America/Los_Angeles:20250630T090000
DTEND;TZID=America/Los_Angeles:20250704T120000
DTSTAMP:20260419T075311
CREATED:20250211T201843Z
LAST-MODIFIED:20250211T202826Z
UID:11289-1751274000-1751630400@newportaquaticcenter.com
SUMMARY:Learn to Row Camp Session 4
DESCRIPTION:Learn to Row camp
URL:https://newportaquaticcenter.com/event/learn-to-row-camp-session-4-2/
CATEGORIES:Camps,Rowing
END:VEVENT
BEGIN:VEVENT
DTSTART;TZID=America/Los_Angeles:20250623T090000
DTEND;TZID=America/Los_Angeles:20250627T130000
DTSTAMP:20260419T075311
CREATED:20250211T204738Z
LAST-MODIFIED:20250211T204738Z
UID:11305-1750669200-1751029200@newportaquaticcenter.com
SUMMARY:Kids Paddle Camp Session 3
DESCRIPTION:
URL:https://newportaquaticcenter.com/event/kids-paddle-camp-session-3-2/
CATEGORIES:Camps
END:VEVENT
BEGIN:VEVENT
DTSTART;TZID=America/Los_Angeles:20250623T090000
DTEND;TZID=America/Los_Angeles:20250627T120000
DTSTAMP:20260419T075311
CREATED:20250211T201809Z
LAST-MODIFIED:20250211T202848Z
UID:11287-1750669200-1751025600@newportaquaticcenter.com
SUMMARY:Learn to Row Camp Session 3
DESCRIPTION:Learn to Row camp
URL:https://newportaquaticcenter.com/event/learn-to-row-camp-session-3-2/
CATEGORIES:Camps,Rowing
END:VEVENT
BEGIN:VEVENT
DTSTART;TZID=America/Los_Angeles:20250616T090000
DTEND;TZID=America/Los_Angeles:20250620T130000
DTSTAMP:20260419T075311
CREATED:20250211T204708Z
LAST-MODIFIED:20250211T204708Z
UID:11303-1750064400-1750424400@newportaquaticcenter.com
SUMMARY:Kids Paddle Camp Session 2
DESCRIPTION:
URL:https://newportaquaticcenter.com/event/kids-paddle-camp-session-2-2/
CATEGORIES:Camps
END:VEVENT
BEGIN:VEVENT
DTSTART;TZID=America/Los_Angeles:20250616T090000
DTEND;TZID=America/Los_Angeles:20250620T120000
DTSTAMP:20260419T075311
CREATED:20250211T201737Z
LAST-MODIFIED:20250211T202915Z
UID:11285-1750064400-1750420800@newportaquaticcenter.com
SUMMARY:Learn to Row Camp Session 2
DESCRIPTION:Learn to Row camp
URL:https://newportaquaticcenter.com/event/learn-to-row-camp-session-2-2/
CATEGORIES:Camps,Rowing
END:VEVENT
BEGIN:VEVENT
DTSTART;TZID=America/Los_Angeles:20250609T090000
DTEND;TZID=America/Los_Angeles:20250613T130000
DTSTAMP:20260419T075311
CREATED:20250211T204608Z
LAST-MODIFIED:20250211T204608Z
UID:11301-1749459600-1749819600@newportaquaticcenter.com
SUMMARY:Kids Paddle Camp Session 1
DESCRIPTION:
URL:https://newportaquaticcenter.com/event/kids-paddle-camp-session-1-2/
CATEGORIES:Camps
END:VEVENT
BEGIN:VEVENT
DTSTART;TZID=America/Los_Angeles:20250609T090000
DTEND;TZID=America/Los_Angeles:20250613T120000
DTSTAMP:20260419T075311
CREATED:20250211T201650Z
LAST-MODIFIED:20250211T202936Z
UID:11283-1749459600-1749816000@newportaquaticcenter.com
SUMMARY:Learn to Row Camp Session 1
DESCRIPTION:Learn to Row camp
URL:https://newportaquaticcenter.com/event/learn-to-row-camp-session-1-2/
CATEGORIES:Camps,Rowing
END:VEVENT
BEGIN:VEVENT
DTSTART;TZID=America/Los_Angeles:20240826T080000
DTEND;TZID=America/Los_Angeles:20240830T140000
DTSTAMP:20260419T075311
CREATED:20240215T230026Z
LAST-MODIFIED:20240215T230026Z
UID:10875-1724659200-1725026400@newportaquaticcenter.com
SUMMARY:NAC/Camp Wao
DESCRIPTION:Summer Session
URL:https://newportaquaticcenter.com/event/nac-camp-wao/
CATEGORIES:Camps,We Are Ocean
END:VEVENT
BEGIN:VEVENT
DTSTART;TZID=America/Los_Angeles:20240624T090000
DTEND;TZID=America/Los_Angeles:20240628T150000
DTSTAMP:20260419T075311
CREATED:20231214T223022Z
LAST-MODIFIED:20231220T191244Z
UID:10649-1719219600-1719586800@newportaquaticcenter.com
SUMMARY:Learn to Row Camp #1
DESCRIPTION:Morning Session 9am-11am \nAfternoon Session 1pm-3pm
URL:https://newportaquaticcenter.com/event/learn-to-row-camp-2/
CATEGORIES:Camps
END:VEVENT
BEGIN:VEVENT
DTSTART;TZID=America/Los_Angeles:20240624T090000
DTEND;TZID=America/Los_Angeles:20240628T120000
DTSTAMP:20260419T075311
CREATED:20231214T213856Z
LAST-MODIFIED:20231214T213856Z
UID:10643-1719219600-1719576000@newportaquaticcenter.com
SUMMARY:Kid's Paddle Camp #3
DESCRIPTION:
URL:https://newportaquaticcenter.com/event/kids-paddle-camp-3/
CATEGORIES:Camps
END:VEVENT
BEGIN:VEVENT
DTSTART;TZID=America/Los_Angeles:20240624T063000
DTEND;TZID=America/Los_Angeles:20240628T083000
DTSTAMP:20260419T075311
CREATED:20231214T224542Z
LAST-MODIFIED:20231220T191624Z
UID:10653-1719210600-1719563400@newportaquaticcenter.com
SUMMARY:Varsity & Intermediate Conditioning Camp #1
DESCRIPTION:Returning Athletes \n2 week camp
URL:https://newportaquaticcenter.com/event/varsity-intermediate-conditioning-camp-2/
CATEGORIES:Camps
END:VEVENT
BEGIN:VEVENT
DTSTART;TZID=America/Los_Angeles:20240617T090000
DTEND;TZID=America/Los_Angeles:20240621T150000
DTSTAMP:20260419T075311
CREATED:20231214T222806Z
LAST-MODIFIED:20231214T222806Z
UID:10647-1718614800-1718982000@newportaquaticcenter.com
SUMMARY:Learn to Row #1
DESCRIPTION:Morning Session 9am-11am \nAfternoon Session 1pm-3pm
URL:https://newportaquaticcenter.com/event/learn-to-row-1/
CATEGORIES:Camps
END:VEVENT
BEGIN:VEVENT
DTSTART;TZID=America/Los_Angeles:20240617T090000
DTEND;TZID=America/Los_Angeles:20240621T120000
DTSTAMP:20260419T075311
CREATED:20231214T213712Z
LAST-MODIFIED:20231214T213712Z
UID:10641-1718614800-1718971200@newportaquaticcenter.com
SUMMARY:Kid's Paddle Camp #2
DESCRIPTION:
URL:https://newportaquaticcenter.com/event/kids-paddle-camp-2/
CATEGORIES:Camps
END:VEVENT
BEGIN:VEVENT
DTSTART;TZID=America/Los_Angeles:20240617T063000
DTEND;TZID=America/Los_Angeles:20240621T083000
DTSTAMP:20260419T075311
CREATED:20231214T223605Z
LAST-MODIFIED:20231214T223605Z
UID:10651-1718605800-1718958600@newportaquaticcenter.com
SUMMARY:Varsity & Intermediate Conditioning Camp #1
DESCRIPTION:Returning Athletes
URL:https://newportaquaticcenter.com/event/varsity-intermediate-conditioning-camp-1/
CATEGORIES:Camps
END:VEVENT
BEGIN:VEVENT
DTSTART;TZID=America/Los_Angeles:20240610T090000
DTEND;TZID=America/Los_Angeles:20240614T120000
DTSTAMP:20260419T075311
CREATED:20231214T213533Z
LAST-MODIFIED:20231214T213533Z
UID:10639-1718010000-1718366400@newportaquaticcenter.com
SUMMARY:Kid's Paddle Camp #1
DESCRIPTION:
URL:https://newportaquaticcenter.com/event/kids-paddle-camp-1/
LOCATION:NAC
CATEGORIES:Camps
END:VEVENT
BEGIN:VEVENT
DTSTART;TZID=UTC:20220715T080000
DTEND;TZID=UTC:20220715T170000
DTSTAMP:20260419T075311
CREATED:20220622T195427Z
LAST-MODIFIED:20220622T195427Z
UID:9728-1657872000-1657904400@newportaquaticcenter.com
SUMMARY:Learn to Row Camp Session 2
DESCRIPTION:
URL:https://newportaquaticcenter.com/event/learn-to-row-camp-session-2/
CATEGORIES:Camps
END:VEVENT
BEGIN:VEVENT
DTSTART;TZID=UTC:20220620T080000
DTEND;TZID=UTC:20220701T170000
DTSTAMP:20260419T075311
CREATED:20220622T195130Z
LAST-MODIFIED:20220622T195130Z
UID:9723-1655712000-1656694800@newportaquaticcenter.com
SUMMARY:Learn to Row Camp Session 1
DESCRIPTION:
URL:https://newportaquaticcenter.com/event/learn-to-row-camp-session-1/
CATEGORIES:Camps
END:VEVENT
BEGIN:VEVENT
DTSTART;TZID=America/Los_Angeles:20190812T090000
DTEND;TZID=America/Los_Angeles:20190816T130000
DTSTAMP:20260419T075311
CREATED:20190312T202740Z
LAST-MODIFIED:20190312T203945Z
UID:8273-1565600400-1565960400@newportaquaticcenter.com
SUMMARY:Kids Paddle Camp Session 8
DESCRIPTION:http://newportaquaticcenter.com/camps/kidspaddlecamp/
URL:https://newportaquaticcenter.com/event/kids-paddle-camp-8/
CATEGORIES:Camps
END:VEVENT
BEGIN:VEVENT
DTSTART;TZID=America/Los_Angeles:20190805T090000
DTEND;TZID=America/Los_Angeles:20190809T130000
DTSTAMP:20260419T075311
CREATED:20190312T202444Z
LAST-MODIFIED:20190312T215018Z
UID:8271-1564995600-1565355600@newportaquaticcenter.com
SUMMARY:Kids Paddle Camp Session 7
DESCRIPTION:http://newportaquaticcenter.com/camps/kidspaddlecamp/
URL:https://newportaquaticcenter.com/event/kids-paddle-camp-session-7/
CATEGORIES:Camps
END:VEVENT
BEGIN:VEVENT
DTSTART;TZID=America/Los_Angeles:20190729T090000
DTEND;TZID=America/Los_Angeles:20190802T130000
DTSTAMP:20260419T075311
CREATED:20190312T202345Z
LAST-MODIFIED:20190312T205025Z
UID:8269-1564390800-1564750800@newportaquaticcenter.com
SUMMARY:Kids Paddle Camp Session 6
DESCRIPTION:http://newportaquaticcenter.com/camps/kidspaddlecamp/ \n 
URL:https://newportaquaticcenter.com/event/kids-paddle-camp-session-6/
CATEGORIES:Camps
END:VEVENT
BEGIN:VEVENT
DTSTART;TZID=America/Los_Angeles:20190722T090000
DTEND;TZID=America/Los_Angeles:20190726T130000
DTSTAMP:20260419T075311
CREATED:20190312T202209Z
LAST-MODIFIED:20190312T204335Z
UID:8267-1563786000-1564146000@newportaquaticcenter.com
SUMMARY:Kids Paddle Camp Session 5
DESCRIPTION:http://newportaquaticcenter.com/camps/kidspaddlecamp/
URL:https://newportaquaticcenter.com/event/kids-paddle-camp-session-5/
CATEGORIES:Camps
END:VEVENT
BEGIN:VEVENT
DTSTART;TZID=America/Los_Angeles:20190715T080000
DTEND;TZID=America/Los_Angeles:20190719T170000
DTSTAMP:20260419T075311
CREATED:20190312T201932Z
LAST-MODIFIED:20190312T205010Z
UID:8265-1563177600-1563555600@newportaquaticcenter.com
SUMMARY:Kids Paddle Camp Session 4
DESCRIPTION:http://newportaquaticcenter.com/camps/kidspaddlecamp/
URL:https://newportaquaticcenter.com/event/kids-paddle-camp-session-4/
CATEGORIES:Camps
END:VEVENT
BEGIN:VEVENT
DTSTART;TZID=America/Los_Angeles:20190708T090000
DTEND;TZID=America/Los_Angeles:20190712T130000
DTSTAMP:20260419T075311
CREATED:20190312T201853Z
LAST-MODIFIED:20190312T204024Z
UID:8263-1562576400-1562936400@newportaquaticcenter.com
SUMMARY:Kids Paddle Camp Session 3
DESCRIPTION:http://newportaquaticcenter.com/camps/kidspaddlecamp/
URL:https://newportaquaticcenter.com/event/kids-paddle-camp-session-3/
CATEGORIES:Camps
END:VEVENT
BEGIN:VEVENT
DTSTART;TZID=America/Los_Angeles:20190708T063000
DTEND;TZID=America/Los_Angeles:20190712T090000
DTSTAMP:20260419T075311
CREATED:20190312T203232Z
LAST-MODIFIED:20190312T212431Z
UID:8280-1562567400-1562922000@newportaquaticcenter.com
SUMMARY:Varsity Conditioning Camp Week 3
DESCRIPTION:Varsity Conditioning Camp \n \n 
URL:https://newportaquaticcenter.com/event/varsity-conditioning-camp-week-3/
CATEGORIES:Camps
END:VEVENT
BEGIN:VEVENT
DTSTART;TZID=America/Los_Angeles:20190701T090000
DTEND;TZID=America/Los_Angeles:20190705T130000
DTSTAMP:20260419T075311
CREATED:20190312T201119Z
LAST-MODIFIED:20190312T204915Z
UID:8261-1561971600-1562331600@newportaquaticcenter.com
SUMMARY:Kids Paddle Camp Session 2
DESCRIPTION:http://newportaquaticcenter.com/camps/kidspaddlecamp/
URL:https://newportaquaticcenter.com/event/kids-paddle-camp-session-2/
CATEGORIES:Camps
END:VEVENT
BEGIN:VEVENT
DTSTART;TZID=America/Los_Angeles:20190701T063000
DTEND;TZID=America/Los_Angeles:20190705T090000
DTSTAMP:20260419T075311
CREATED:20190312T203139Z
LAST-MODIFIED:20190312T203902Z
UID:8278-1561962600-1562317200@newportaquaticcenter.com
SUMMARY:Varsity Conditioning Camp Week 2
DESCRIPTION:Varsity Conditioning Camp \n \n 
URL:https://newportaquaticcenter.com/event/varsity-conditioning-camp-week-2/
CATEGORIES:Camps
END:VEVENT
BEGIN:VEVENT
DTSTART;TZID=America/Los_Angeles:20190624T090000
DTEND;TZID=America/Los_Angeles:20190628T150000
DTSTAMP:20260419T075311
CREATED:20190312T203418Z
LAST-MODIFIED:20190312T204843Z
UID:8282-1561366800-1561734000@newportaquaticcenter.com
SUMMARY:Learn to Row Summer Camp Session 1
DESCRIPTION:http://newportaquaticcenter.com/camps/novice-rowing-camp/
URL:https://newportaquaticcenter.com/event/learn-to-row-summer-camp-session-1/
CATEGORIES:Camps
END:VEVENT
BEGIN:VEVENT
DTSTART;TZID=America/Los_Angeles:20190624T090000
DTEND;TZID=America/Los_Angeles:20190628T130000
DTSTAMP:20260419T075311
CREATED:20190312T200506Z
LAST-MODIFIED:20190312T203745Z
UID:8257-1561366800-1561726800@newportaquaticcenter.com
SUMMARY:Kids Paddle Camp Session 1
DESCRIPTION:http://newportaquaticcenter.com/camps/kidspaddlecamp/
URL:https://newportaquaticcenter.com/event/kids-paddle-camp-session-1/
CATEGORIES:Camps
END:VEVENT
BEGIN:VEVENT
DTSTART;TZID=America/Los_Angeles:20190624T063000
DTEND;TZID=America/Los_Angeles:20190628T090000
DTSTAMP:20260419T075311
CREATED:20190312T205304Z
LAST-MODIFIED:20190312T211316Z
UID:8287-1561357800-1561712400@newportaquaticcenter.com
SUMMARY:Intro to Competitive Rowing Week 1
DESCRIPTION:http://newportaquaticcenter.com/camps/into-to-competitive-rowing/
URL:https://newportaquaticcenter.com/event/intro-to-competitive-rowing-week-1/
CATEGORIES:Camps
END:VEVENT
END:VCALENDAR